BEGIN:VCALENDAR
VERSION:2.0
PRODID:-//Active-fneapl - ECPv5.8.0//NONSGML v1.0//EN
CALSCALE:GREGORIAN
METHOD:PUBLISH
X-WR-CALNAME:Active-fneapl
X-ORIGINAL-URL:https://www.active-fneapl.fr
X-WR-CALDESC:évènements pour Active-fneapl
BEGIN:VTIMEZONE
TZID:Europe/Paris
BEGIN:DAYLIGHT
TZOFFSETFROM:+0100
TZOFFSETTO:+0200
TZNAME:CEST
DTSTART:20250330T010000
END:DAYLIGHT
BEGIN:STANDARD
TZOFFSETFROM:+0200
TZOFFSETTO:+0100
TZNAME:CET
DTSTART:20251026T010000
END:STANDARD
END:VTIMEZONE
BEGIN:VEVENT
DTSTART;TZID=Europe/Paris:20251001T150000
DTEND;TZID=Europe/Paris:20251001T170000
DTSTAMP:20260422T105128
CREATED:20250918T131256Z
LAST-MODIFIED:20250918T131851Z
UID:10221-1759330800-1759338000@www.active-fneapl.fr
SUMMARY:webinaire de présentation du dispositif pass Sport
DESCRIPTION:Webinaire Infos \nmercredi 1er octobre à 15h
URL:https://www.active-fneapl.fr/event/webinaire-de-presentation-du-dispositif-pass-sport/
LOCATION:Distanciel
CATEGORIES:Evenement,Nos dates clés,Nos réunions
ATTACH;FMTTYPE=image/jpeg:https://www.active-fneapl.fr/wp-content/uploads/2025/09/Visuel-Brevo-Passport-1.jpg
END:VEVENT
END:VCALENDAR