BEGIN:VCALENDAR
VERSION:2.0
PRODID:-//Active-fneapl - ECPv5.8.0//NONSGML v1.0//EN
CALSCALE:GREGORIAN
METHOD:PUBLISH
X-WR-CALNAME:Active-fneapl
X-ORIGINAL-URL:https://www.active-fneapl.fr
X-WR-CALDESC:évènements pour Active-fneapl
BEGIN:VTIMEZONE
TZID:Europe/Paris
BEGIN:DAYLIGHT
TZOFFSETFROM:+0100
TZOFFSETTO:+0200
TZNAME:CEST
DTSTART:20230326T010000
END:DAYLIGHT
BEGIN:STANDARD
TZOFFSETFROM:+0200
TZOFFSETTO:+0100
TZNAME:CET
DTSTART:20231029T010000
END:STANDARD
END:VTIMEZONE
BEGIN:VEVENT
DTSTART;TZID=Europe/Paris:20230627T110000
DTEND;TZID=Europe/Paris:20230627T123000
DTSTAMP:20260420T103429
CREATED:20230124T164646Z
LAST-MODIFIED:20230617T140148Z
UID:8256-1687863600-1687869000@www.active-fneapl.fr
SUMMARY:Webinaire de présentation de la campagne #BEACTIVE DAY 2023
DESCRIPTION:webinaire de présentation de la campagne #BEACTIVE DAY 2023		\n				\n						\n					\n		\n								\n					\n		\n				\n						\n							\n					\n			\n							\n						\n				\n			Mardi 27 juin De 11h à 12H\n		\n				\n						\n					\n		\n								\n					\n		\n				\n						\n							\n					\n			\n							\n						\n				\n								\n				Ce webinaire est ouvert à tous et vous explique comment tirer parti de cette campagne et de son pouvoir d’attraction : déjà inscrits pour organiser un évènement ou juste curieux d’en savoir plus.   Nous vous invitons à assister à la présentation en ligne de cette grande campagne dont l’objectif est de faire bouger les Français !   Qu’est-ce que #BEACTIVE DAY ? Comment y participer ? Pourquoi organiser un évènement dans mon club ? Quel type d’événement pour quel public ?…    Nous répondrons à toutes vos questions et vous présenterons tous les outils préparés (kit de communication et site internet) par Active-FNEAPL pour faire de cette campagne un énorme succès en France.   Pour assister à ce webinaire exceptionnel et recevoir les informations de connexion pour le jour J\, merci de confirmer votre participation par retour de mail.    Nous comptons sur vous pour diffuser cette invitation autour de vous.   Tous ensemble faisons bouger les Français !   #BEACTIVEDAY ! 					\n						\n				\n						\n					\n		\n								\n					\n		\n				\n						\n							\n					\n			\n							\n						\n				\n					\n			\n						\n						Participation campagne
URL:https://www.active-fneapl.fr/event/webinaire-de-presentation-de-la-campagne-beactive-day-2023/
LOCATION:Distanciel
CATEGORIES:Evenement
ATTACH;FMTTYPE=image/jpeg:https://www.active-fneapl.fr/wp-content/uploads/2023/01/WEB-I.jpeg
ORGANIZER;CN="Anne%20LEROY":MAILTO:beactiveday@active-fneapl.fr
END:VEVENT
END:VCALENDAR