BEGIN:VCALENDAR
VERSION:2.0
PRODID:-//Active-fneapl - ECPv5.8.0//NONSGML v1.0//EN
CALSCALE:GREGORIAN
METHOD:PUBLISH
X-WR-CALNAME:Active-fneapl
X-ORIGINAL-URL:https://www.active-fneapl.fr
X-WR-CALDESC:évènements pour Active-fneapl
BEGIN:VTIMEZONE
TZID:Europe/Paris
BEGIN:DAYLIGHT
TZOFFSETFROM:+0100
TZOFFSETTO:+0200
TZNAME:CEST
DTSTART:20260329T010000
END:DAYLIGHT
BEGIN:STANDARD
TZOFFSETFROM:+0200
TZOFFSETTO:+0100
TZNAME:CET
DTSTART:20261025T010000
END:STANDARD
END:VTIMEZONE
BEGIN:VEVENT
DTSTART;TZID=Europe/Paris:20260413T150000
DTEND;TZID=Europe/Paris:20260413T170000
DTSTAMP:20260422T110416
CREATED:20260411T160624Z
LAST-MODIFIED:20260411T161016Z
UID:11370-1776092400-1776099600@www.active-fneapl.fr
SUMMARY:Webinaire Accès Libre
DESCRIPTION:Webinaire Infos \nlundi 13 avril à 15h		\n				\n						\n					\n		\n								\n					\n		\n				\n						\n							\n					\n			\n							\n						\n				\n								\n				 Pourquoi participer ? ­ comprendre précisément ce que le texte autorise… et ce qu’il interdit dans ce cas de figure ;identifier vos obligations réelles en tant qu’exploitant ;connaître les points de vigilance spécifiques en cas de contrôle ;bénéficier de retours opérationnels et de bonnes pratiques applicables immédiatement ;poser vos questions et obtenir des réponses claires et sécurisantes.­   ­ Ce webinaire s’adresse aux exploitants :   d’ERP de type X – 1ʳᵉ à 4ᵉ catégorie\,ainsi qu’aux ERP de 5ᵉ catégorie lorsque les salles sont situées en sous-sol ou en étage.Ces configurations impliquent des exigences réglementaires renforcées et des responsabilités spécifiques en matière de sécurité et d’accès libre. ­ Pourquoi participer ? ­ identifier les possibilités pour conserver des plages horaires importantes sans accès libreidentifier les possibilités de dérogations­ Au programme : ­ contrat de travail (CDI\, CDD\, contrats aidés\, etc)Externalisation (auto-entrepreneur\, autre possibilité\,…)­  
URL:https://www.active-fneapl.fr/event/webinaire-acces-libre/
LOCATION:Distanciel
CATEGORIES:Evenement,Nos dates clés,Nos réunions
ATTACH;FMTTYPE=image/png:https://www.active-fneapl.fr/wp-content/uploads/2026/03/Article-Vademecum-Active-FNEAPL-2026-1.png
END:VEVENT
END:VCALENDAR