BEGIN:VCALENDAR
VERSION:2.0
PRODID:-//Active-fneapl - ECPv5.8.0//NONSGML v1.0//EN
CALSCALE:GREGORIAN
METHOD:PUBLISH
X-WR-CALNAME:Active-fneapl
X-ORIGINAL-URL:https://www.active-fneapl.fr
X-WR-CALDESC:évènements pour Active-fneapl
BEGIN:VTIMEZONE
TZID:Europe/Paris
BEGIN:DAYLIGHT
TZOFFSETFROM:+0100
TZOFFSETTO:+0200
TZNAME:CEST
DTSTART:20230326T010000
END:DAYLIGHT
BEGIN:STANDARD
TZOFFSETFROM:+0200
TZOFFSETTO:+0100
TZNAME:CET
DTSTART:20231029T010000
END:STANDARD
END:VTIMEZONE
BEGIN:VEVENT
DTSTART;VALUE=DATE:20230923
DTEND;VALUE=DATE:20231001
DTSTAMP:20260422T104943
CREATED:20230610T140944Z
LAST-MODIFIED:20230703T164231Z
UID:8449-1695427200-1696118399@www.active-fneapl.fr
SUMMARY:Samedi 23 septembre Campagne européenne #BEACTIVE DAY
DESCRIPTION:Samedi 23 septembre Campagne européenne #BEACTIVE DAY  #BEACTIVE DAY est une grande campagne menée par la Commission Européenne et EuropeActive qui se déroulera le samedi 23 septembre dans plus de 20 pays d’Europe. L’objectif est de célébrer et de promouvoir l’activité physique auprès de tous les citoyens de l’UE en organisant des milliers d’évènements gratuits et d’activités partout en Europe. Cette année\, Active-FNEAPL est heureuse d’être partenaire de #BEACTIVE DAY pour la France et se mobilise pour faire de la campagne un véritable succès ! Que vous soyez un club de fitness\, une association sportive\, un espace de loisirs\, une collectivité\, une entreprise… vous pouvez participer à la campagne #BEACTIVE DAY et organiser un évènement le jour J. Pour cela\, il suffit de vous inscrire via le lien ci-dessous :  Cette campagne est une très belle opportunité pour vous de créer du trafic dans vos établissements et toucher des prospects potentiels !  Rejoignez le mouvement #BEACTIVE DAY Pour plus d’informations : www.beactiveday.fr 					\n						\n				\n						\n					\n		\n								\n					\n		\n				\n						\n							\n					\n			\n							\n						\n				\n					\n			\n						\n						Inscrivez vous à la campagne #BEACTIVEDAY
URL:https://www.active-fneapl.fr/event/samedi-23-septembre-campagne-europeenne-beactive-day/
LOCATION:Tous clubs de sports\, France
CATEGORIES:Evenement
ATTACH;FMTTYPE=image/jpeg:https://www.active-fneapl.fr/wp-content/uploads/2023/01/AFF-2.jpg
END:VEVENT
END:VCALENDAR