BEGIN:VCALENDAR
VERSION:2.0
PRODID:-//Active-fneapl - ECPv5.8.0//NONSGML v1.0//EN
CALSCALE:GREGORIAN
METHOD:PUBLISH
X-WR-CALNAME:Active-fneapl
X-ORIGINAL-URL:https://www.active-fneapl.fr
X-WR-CALDESC:évènements pour Active-fneapl
BEGIN:VTIMEZONE
TZID:Europe/Paris
BEGIN:DAYLIGHT
TZOFFSETFROM:+0100
TZOFFSETTO:+0200
TZNAME:CEST
DTSTART:20240331T010000
END:DAYLIGHT
BEGIN:STANDARD
TZOFFSETFROM:+0200
TZOFFSETTO:+0100
TZNAME:CET
DTSTART:20241027T010000
END:STANDARD
END:VTIMEZONE
BEGIN:VEVENT
DTSTART;TZID=Europe/Paris:20240610T183000
DTEND;TZID=Europe/Paris:20240610T190000
DTSTAMP:20260422T111324
CREATED:20240531T083648Z
LAST-MODIFIED:20240531T134337Z
UID:9244-1718044200-1718046000@www.active-fneapl.fr
SUMMARY:ORDINATEURS DE PLONGÉE  ET  PLONGÉES SUCCESSIVES
DESCRIPTION:LA COMMISSION PLEIN AIR D'ACTIVE-FNEAPL VOUS CONVIE A UNE REUNION DEBATS SUR :\n\nORDINATEURS DE PLONGEE \nET \nPLONGEES SUCCESSIVES\n		\n				\n				\n				\n			LE 10 JUIN A 18H30Vous recevrez un lien le 10 juin dans la matinée NOUS SERONS ATTENTIFS A VOS ATTENTES ET BESOINS Informer\, conseiller\, protéger seront les fils\nconducteurs de notre réunion débats. 		\n				\n						\n					\n		\n								\n					\n		\n				\n						\n							\n					\n			\n							\n						\n				\n					\n			\n						\n						RESERVEZ VOTRE REUNION
URL:https://www.active-fneapl.fr/event/ordinateurs-de-plongee-et-plongees-successives/
LOCATION:Distanciel
END:VEVENT
END:VCALENDAR