BEGIN:VCALENDAR
VERSION:2.0
PRODID:-//Active-fneapl - ECPv5.8.0//NONSGML v1.0//EN
CALSCALE:GREGORIAN
METHOD:PUBLISH
X-WR-CALNAME:Active-fneapl
X-ORIGINAL-URL:https://www.active-fneapl.fr
X-WR-CALDESC:évènements pour Active-fneapl
BEGIN:VTIMEZONE
TZID:Europe/Paris
BEGIN:DAYLIGHT
TZOFFSETFROM:+0100
TZOFFSETTO:+0200
TZNAME:CEST
DTSTART:20220327T010000
END:DAYLIGHT
BEGIN:STANDARD
TZOFFSETFROM:+0200
TZOFFSETTO:+0100
TZNAME:CET
DTSTART:20221030T010000
END:STANDARD
END:VTIMEZONE
BEGIN:VEVENT
DTSTART;VALUE=DATE:20220121
DTEND;VALUE=DATE:20220124
DTSTAMP:20260421T110538
CREATED:20211204T152024Z
LAST-MODIFIED:20220107T100338Z
UID:6316-1642723200-1642982399@www.active-fneapl.fr
SUMMARY:Journées portes ouvertes des salles de sports
DESCRIPTION:OBJECTIFS		\n				\n						\n					\n		\n								\n					\n		\n				\n						\n							\n					\n			\n							\n						\n				\n								\n				 – Générer du trafic Sport & Santé\, dans vos clubs. Le week-end retenu fin janvier répond aux attentes des bonnes résolutions «Sport & Santé» du grand public. QUAND 21-22-23 janvier 2022 COMMENT Tous les clubs de sport en France sont invités à participer en s’inscrivant gratuitement à cet événement. QUI La liste des clubs inscrits se trouve ici  					\n						\n				\n						\n					\n		\n								\n					\n		\n				\n						\n							\n					\n			\n							\n						\n				\n					\n			\n		\n				\n				\n						\n					\n		\n								\n					\n		\n				\n						\n							\n					\n			\n							\n						\n				\n					\n			\n		\n				\n				\n						\n					\n		\n								\n					\n		\n				\n						\n							\n					\n			\n							\n						\n				\n					\n			\n						\n						Inscrivez vous ici
URL:https://www.active-fneapl.fr/event/journees-portes-ouvertes-des-salles-de-sports/
LOCATION:Tous clubs de sports\, France
CATEGORIES:Evenement
END:VEVENT
END:VCALENDAR