BEGIN:VCALENDAR
VERSION:2.0
PRODID:-//Active-fneapl - ECPv5.8.0//NONSGML v1.0//EN
CALSCALE:GREGORIAN
METHOD:PUBLISH
X-WR-CALNAME:Active-fneapl
X-ORIGINAL-URL:https://www.active-fneapl.fr
X-WR-CALDESC:évènements pour Active-fneapl
BEGIN:VTIMEZONE
TZID:Europe/Paris
BEGIN:DAYLIGHT
TZOFFSETFROM:+0100
TZOFFSETTO:+0200
TZNAME:CEST
DTSTART:20240331T010000
END:DAYLIGHT
BEGIN:STANDARD
TZOFFSETFROM:+0200
TZOFFSETTO:+0100
TZNAME:CET
DTSTART:20241027T010000
END:STANDARD
END:VTIMEZONE
BEGIN:VEVENT
DTSTART;TZID=Europe/Paris:20241108T140000
DTEND;TZID=Europe/Paris:20241108T150000
DTSTAMP:20260422T105845
CREATED:20240920T071633Z
LAST-MODIFIED:20240920T080151Z
UID:9399-1731074400-1731078000@www.active-fneapl.fr
SUMMARY:D U E R P : Comment ? Pour Qui ? Pour Quoi ?
DESCRIPTION:Tout savoir sur le DUERPWEBINAIRE LE 8 NOVEMBRE 2024 de 14 à 15hOrganisé en partenariat avec 		\n				\n				\n				\n								\n																										\n						\n				\n				\n				\n					\n			\n						\n						RESERVEZ VOTRE REUNION
URL:https://www.active-fneapl.fr/event/d-u-e-r-p-comment-pour-qui-pour-quoi/
LOCATION:Distanciel
ATTACH;FMTTYPE=image/png:https://www.active-fneapl.fr/wp-content/uploads/2024/09/DUERP.png
END:VEVENT
END:VCALENDAR