BEGIN:VCALENDAR
VERSION:2.0
PRODID:-//Active-fneapl - ECPv5.8.0//NONSGML v1.0//EN
CALSCALE:GREGORIAN
METHOD:PUBLISH
X-WR-CALNAME:Active-fneapl
X-ORIGINAL-URL:https://www.active-fneapl.fr
X-WR-CALDESC:évènements pour Active-fneapl
BEGIN:VTIMEZONE
TZID:Europe/Paris
BEGIN:DAYLIGHT
TZOFFSETFROM:+0100
TZOFFSETTO:+0200
TZNAME:CEST
DTSTART:20260329T010000
END:DAYLIGHT
BEGIN:STANDARD
TZOFFSETFROM:+0200
TZOFFSETTO:+0100
TZNAME:CET
DTSTART:20261025T010000
END:STANDARD
END:VTIMEZONE
BEGIN:VEVENT
DTSTART;VALUE=DATE:20260604
DTEND;VALUE=DATE:20260606
DTSTAMP:20260422T112455
CREATED:20260411T161402Z
LAST-MODIFIED:20260411T161937Z
UID:11376-1780531200-1780703999@www.active-fneapl.fr
SUMMARY:Congrès fitness challenges 2026
DESCRIPTION:Congrès fitness challenges 2026		\n				\n						\n					\n		\n								\n					\n		\n				\n						\n							\n					\n			\n							\n						\n				\n								\n				2ème édition Congrès FitnessChallenges 2026 Le rendez-vous des professionnels du fitness français Voir le programme https://fitness-challenges.com/boutique/evenement/congres/ 
URL:https://www.active-fneapl.fr/event/congres-fitness-challenges-2026/
LOCATION:Distanciel
CATEGORIES:Evenement,Nos dates clés,Nos réunions
ATTACH;FMTTYPE=image/jpeg:https://www.active-fneapl.fr/wp-content/uploads/2026/04/fcong.jpg
END:VEVENT
END:VCALENDAR