BEGIN:VCALENDAR
VERSION:2.0
PRODID:-//Active-fneapl - ECPv5.8.0//NONSGML v1.0//EN
CALSCALE:GREGORIAN
METHOD:PUBLISH
X-WR-CALNAME:Active-fneapl
X-ORIGINAL-URL:https://www.active-fneapl.fr
X-WR-CALDESC:évènements pour Active-fneapl
BEGIN:VTIMEZONE
TZID:Europe/Paris
BEGIN:DAYLIGHT
TZOFFSETFROM:+0100
TZOFFSETTO:+0200
TZNAME:CEST
DTSTART:20250330T010000
END:DAYLIGHT
BEGIN:STANDARD
TZOFFSETFROM:+0200
TZOFFSETTO:+0100
TZNAME:CET
DTSTART:20251026T010000
END:STANDARD
END:VTIMEZONE
BEGIN:VEVENT
DTSTART;TZID=Europe/Paris:20250419T131552
DTEND;TZID=Europe/Paris:20250419T131552
DTSTAMP:20260420T081434
CREATED:20250419T131342Z
LAST-MODIFIED:20250419T131552Z
UID:9919-1745068552-1745068552@www.active-fneapl.fr
SUMMARY:Avenant n°210 du 3 avril 2025 relatif aux salaires
DESCRIPTION:Vous devez être connecté à votre espace pour découvrir ce contenu.\nSe Connecter\nAdhérer en ligne
URL:https://www.active-fneapl.fr/event/avenant-n210-du-3-avril-2025-relatif-aux-salaires/
LOCATION:A venir\, PARIS
ATTACH;FMTTYPE=image/jpeg:https://www.active-fneapl.fr/wp-content/uploads/2025/04/convention_collective_nationale_du_sport_2019.jpg
END:VEVENT
END:VCALENDAR